BEGIN:VCALENDAR
VERSION:2.0
PRODID:spatie/icalendar-generator
DESCRIPTION:Veranstaltungen von GEK-Eilendorf
X-WR-CALDESC:Veranstaltungen von GEK-Eilendorf
REFRESH-INTERVAL;VALUE=DURATION:PT1440M
X-PUBLISHED-TTL:PT1440M
BEGIN:VTIMEZONE
TZID:Etc/GMT+0
BEGIN:STANDARD
DTSTART:20250211T181100Z
TZOFFSETFROM:+0000
TZOFFSETTO:+0000
END:STANDARD
END:VTIMEZONE
BEGIN:VTIMEZONE
TZID:UTC
BEGIN:STANDARD
DTSTART:20250725T125646Z
TZOFFSETFROM:+0000
TZOFFSETTO:+0000
END:STANDARD
END:VTIMEZONE
BEGIN:VEVENT
UID:8-7
DTSTAMP:20260421T125646Z
SUMMARY:Ordensfest
LOCATION:Vereinshaus Nirmer Str. Nirmer Str. 28
ORGANIZER;CN=admin:MAILTO:gek1954@gmx.de
DTSTART;TZID=Etc/GMT+0:20251108T181100
DTEND;TZID=Etc/GMT+0:20251108T191100
X-ALT-DESC;FMTTYPE=TEXT/HTML:<p>Gek  Tanzen Tanzmarie Zafija \,Kindermarie 
 Laura \, Inklusions Marie Julia \,  Gr\,Eilendorfer \, DJ Ralf \, Oecher K
 arneval\, Iledorü</p>\n
CATEGORIES:Feier
URL;VALUE=URI:https://www.gek-eilendorf.de/mc-events/ordensfest/
METHOD:PUBLISH
END:VEVENT
END:VCALENDAR