BEGIN:VCALENDAR
VERSION:2.0
PRODID:spatie/icalendar-generator
DESCRIPTION:Veranstaltungen von GEK-Eilendorf
X-WR-CALDESC:Veranstaltungen von GEK-Eilendorf
REFRESH-INTERVAL;VALUE=DURATION:PT1440M
X-PUBLISHED-TTL:PT1440M
BEGIN:VTIMEZONE
TZID:Etc/GMT+0
BEGIN:STANDARD
DTSTART:20251014T000000Z
TZOFFSETFROM:+0000
TZOFFSETTO:+0000
END:STANDARD
END:VTIMEZONE
BEGIN:VTIMEZONE
TZID:UTC
BEGIN:STANDARD
DTSTART:20250725T125224Z
TZOFFSETFROM:+0000
TZOFFSETTO:+0000
END:STANDARD
END:VTIMEZONE
BEGIN:VEVENT
UID:10-9
DTSTAMP:20260421T125224Z
SUMMARY:SOMMERFEST 2026
LOCATION:Vereinshaus Nirmer Str. Nirmer Str. 28
ORGANIZER;CN=admin:MAILTO:gek1954@gmx.de
DTSTART;TZID=Etc/GMT+0;VALUE=DATE:20260711
DTEND;TZID=Etc/GMT+0;VALUE=DATE:20260712
X-ALT-DESC;FMTTYPE=TEXT/HTML:<p>Sommer\, Sonne\, GEK\;  Waldi\, Action für
  die Kids\,</p>\n
CATEGORIES:Feier
URL;VALUE=URI:https://www.gek-eilendorf.de/mc-events/sommerfest-2026-2/
METHOD:PUBLISH
END:VEVENT
END:VCALENDAR